BEGIN:VCALENDAR
VERSION:2.0
PRODID:-//Tukios.com/
BEGIN:VEVENT
UID:6b29152e-dcf6-40f9-9b2c-ff65a1ccb971@www.wpfh.net
DTSTAMP:20260420T215738Z
DTSTART:20260422T210000Z
DTEND:20260423T010000Z
SUMMARY:Visitation
DESCRIPTION:
URL:https://www.wpfh.net/obituaries/ally-melliere
LOCATION: 1340 West Market  Red Bud IL 62278
GEO:38.2112713;-90.0167347
END:VEVENT
END:VCALENDAR