BEGIN:VCALENDAR
VERSION:2.0
PRODID:-//Tukios.com/
BEGIN:VEVENT
UID:eb4a69e9-6ac6-464b-95e3-fdb834b8c98a@www.wpfh.net
DTSTAMP:20260420T215825Z
DTSTART:20260423T160000Z
DTEND:20260423T170000Z
SUMMARY:Mass
DESCRIPTION:
URL:https://www.wpfh.net/obituaries/ally-melliere
LOCATION: 802 Middle Street  Prairie du Rocher IL 62277
GEO:38.0793963;-90.093318
END:VEVENT
END:VCALENDAR