BEGIN:VCALENDAR
VERSION:2.0
PRODID:-//Tukios.com/
BEGIN:VEVENT
UID:3aa2f7ec-f73c-4d09-9954-e3c48e64e35c@www.wpfh.net
DTSTAMP:20260420T215645Z
DTSTART:20260423T150000Z
DTEND:20260423T160000Z
SUMMARY:Visitation
DESCRIPTION:
URL:https://www.wpfh.net/obituaries/ally-melliere
LOCATION: 802 Middle Street  Prairie du Rocher IL 62277
GEO:38.0793963;-90.093318
END:VEVENT
END:VCALENDAR