BEGIN:VCALENDAR
VERSION:2.0
PRODID:-//Tukios.com/
BEGIN:VEVENT
UID:1a8517ea-d60f-4cc6-8f3e-6e5dfa54f394@www.wpfh.net
DTSTAMP:20260424T171604Z
DTSTART:20260427T150000Z
DTEND:20260427T160000Z
SUMMARY:Mass
DESCRIPTION:
URL:https://www.wpfh.net/obituaries/carol-hess
LOCATION: 1 Pioneer Lane  Red Bud IL 62278
GEO:38.1298274;-90.0088242
END:VEVENT
END:VCALENDAR