BEGIN:VCALENDAR
VERSION:2.0
PRODID:-//Tukios.com/
BEGIN:VEVENT
UID:19f9db9a-df0d-41c2-bf0f-d4e3bb6401c2@www.wpfh.net
DTSTAMP:20260424T171313Z
DTSTART:20260426T200000Z
DTEND:20260426T230000Z
SUMMARY:Visitation
DESCRIPTION:
URL:https://www.wpfh.net/obituaries/carol-hess
LOCATION: 1340 West Market Street  Red Bud IL 62278
GEO:38.2112713;-90.0167347
END:VEVENT
END:VCALENDAR