BEGIN:VCALENDAR
VERSION:2.0
PRODID:-//Tukios.com/
BEGIN:VEVENT
UID:8202cfc4-2d50-4718-a903-28cfc4bae57e@www.wpfh.net
DTSTAMP:20260425T010911Z
DTSTART:20260502T170000Z
DTEND:20260502T190000Z
SUMMARY:Visitation
DESCRIPTION:
URL:https://www.wpfh.net/obituaries/jacqueline-bert
LOCATION: 839 Lehmen Drive  Chester IL 62233
GEO:37.9202076;-89.8353983
END:VEVENT
END:VCALENDAR