BEGIN:VCALENDAR
VERSION:2.0
PRODID:-//Tukios.com/
BEGIN:VEVENT
UID:2cb34773-2c75-404a-8d39-7601194d4825@www.wpfh.net
DTSTAMP:20260425T010632Z
DTSTART:20260502T190000Z
DTEND:20260502T200000Z
SUMMARY:Memorial Service
DESCRIPTION:
URL:https://www.wpfh.net/obituaries/jacqueline-bert
LOCATION: 839 Lehmen Drive  Chester IL 62233
GEO:37.9202076;-89.8353983
END:VEVENT
END:VCALENDAR