BEGIN:VCALENDAR
VERSION:2.0
PRODID:-//Tukios.com/
BEGIN:VEVENT
UID:59813860-7aa4-4bea-9199-1223e77d837b@www.wpfh.net
DTSTAMP:20260420T215535Z
DTSTART:20260424T170000Z
DTEND:20260424T180000Z
SUMMARY:Graveside Service
DESCRIPTION:
URL:https://www.wpfh.net/obituaries/rose-eggemeyer
LOCATION:  South Main Street  Ellis Grove IL 62241
GEO:38.0090449;-89.9079609
END:VEVENT
END:VCALENDAR